BEGIN:VCALENDAR
VERSION:2.0
PRODID:-//André Da Silva - ECPv6.0.1.1//NONSGML v1.0//EN
CALSCALE:GREGORIAN
METHOD:PUBLISH
X-ORIGINAL-URL:https://andredasilvamusic.com
X-WR-CALDESC:Events for André Da Silva
REFRESH-INTERVAL;VALUE=DURATION:PT1H
X-Robots-Tag:noindex
X-PUBLISHED-TTL:PT1H
BEGIN:VTIMEZONE
TZID:Europe/Paris
BEGIN:DAYLIGHT
TZOFFSETFROM:+0100
TZOFFSETTO:+0200
TZNAME:CEST
DTSTART:20250330T010000
END:DAYLIGHT
BEGIN:STANDARD
TZOFFSETFROM:+0200
TZOFFSETTO:+0100
TZNAME:CET
DTSTART:20251026T010000
END:STANDARD
END:VTIMEZONE
BEGIN:VEVENT
DTSTART;TZID=Europe/Paris:20250117T080000
DTEND;TZID=Europe/Paris:20250117T170000
DTSTAMP:20260426T002016
CREATED:20240919T194847Z
LAST-MODIFIED:20240919T194847Z
UID:10000079-1737100800-1737133200@andredasilvamusic.com
SUMMARY:Irina Gonzalez quartet
DESCRIPTION:
URL:https://andredasilvamusic.com/event/irina-gonzalez-quartet-5/
LOCATION:Billers\, 56018\, France
END:VEVENT
END:VCALENDAR