BEGIN:VCALENDAR
VERSION:2.0
PRODID:-//André Da Silva - ECPv6.0.1.1//NONSGML v1.0//EN
CALSCALE:GREGORIAN
METHOD:PUBLISH
X-WR-CALNAME:André Da Silva
X-ORIGINAL-URL:https://andredasilvamusic.com
X-WR-CALDESC:Events for André Da Silva
REFRESH-INTERVAL;VALUE=DURATION:PT1H
X-Robots-Tag:noindex
X-PUBLISHED-TTL:PT1H
BEGIN:VTIMEZONE
TZID:Europe/Paris
BEGIN:DAYLIGHT
TZOFFSETFROM:+0100
TZOFFSETTO:+0200
TZNAME:CEST
DTSTART:20230326T010000
END:DAYLIGHT
BEGIN:STANDARD
TZOFFSETFROM:+0200
TZOFFSETTO:+0100
TZNAME:CET
DTSTART:20231029T010000
END:STANDARD
END:VTIMEZONE
BEGIN:VEVENT
DTSTART;TZID=Europe/Paris:20230815T080000
DTEND;TZID=Europe/Paris:20230819T170000
DTSTAMP:20260423T115155
CREATED:20230521T155222Z
LAST-MODIFIED:20230521T155222Z
UID:10000031-1692086400-1692464400@andredasilvamusic.com
SUMMARY:Irina Gonzalez trio
DESCRIPTION:
URL:https://andredasilvamusic.com/event/irina-gonzalez-trio/
LOCATION:Cave Poesie\, 71 Rue du Taur\, Toulouse\, 31000
END:VEVENT
BEGIN:VEVENT
DTSTART;TZID=Europe/Paris:20230816T080000
DTEND;TZID=Europe/Paris:20230816T170000
DTSTAMP:20260423T115156
CREATED:20230521T160158Z
LAST-MODIFIED:20230521T160158Z
UID:10000034-1692172800-1692205200@andredasilvamusic.com
SUMMARY:Irina Gonzalez Trio
DESCRIPTION:
URL:https://andredasilvamusic.com/event/irina-gonzalez-trio-2/
LOCATION:Cave Poesie\, 71 Rue du Taur\, Toulouse\, 31000
END:VEVENT
BEGIN:VEVENT
DTSTART;TZID=Europe/Paris:20230817T080000
DTEND;TZID=Europe/Paris:20230817T170000
DTSTAMP:20260423T115156
CREATED:20230521T160300Z
LAST-MODIFIED:20230521T160300Z
UID:10000035-1692259200-1692291600@andredasilvamusic.com
SUMMARY:Irina Gonzalez Trio
DESCRIPTION:
URL:https://andredasilvamusic.com/event/irina-gonzalez-trio-3/
LOCATION:Cave Poesie\, 71 Rue du Taur\, Toulouse\, 31000
END:VEVENT
BEGIN:VEVENT
DTSTART;TZID=Europe/Paris:20230818T080000
DTEND;TZID=Europe/Paris:20230818T170000
DTSTAMP:20260423T115156
CREATED:20230521T160336Z
LAST-MODIFIED:20230521T160336Z
UID:10000036-1692345600-1692378000@andredasilvamusic.com
SUMMARY:Irina Gonzalez Trio
DESCRIPTION:
URL:https://andredasilvamusic.com/event/irina-gonzalez-trio-4/
LOCATION:Cave Poesie\, 71 Rue du Taur\, Toulouse\, 31000
END:VEVENT
BEGIN:VEVENT
DTSTART;TZID=Europe/Paris:20230819T080000
DTEND;TZID=Europe/Paris:20230819T170000
DTSTAMP:20260423T115156
CREATED:20230521T160430Z
LAST-MODIFIED:20230521T160430Z
UID:10000037-1692432000-1692464400@andredasilvamusic.com
SUMMARY:Irina Gonzalez Trio - w/Rafael Aguilar
DESCRIPTION:
URL:https://andredasilvamusic.com/event/irina-gonzalez-trio-w-rafael-aguilar/
LOCATION:Cave Poesie\, 71 Rue du Taur\, Toulouse\, 31000
END:VEVENT
END:VCALENDAR