BEGIN:VCALENDAR
VERSION:2.0
PRODID:-//André Da Silva - ECPv6.0.1.1//NONSGML v1.0//EN
CALSCALE:GREGORIAN
METHOD:PUBLISH
X-WR-CALNAME:André Da Silva
X-ORIGINAL-URL:https://andredasilvamusic.com
X-WR-CALDESC:Events for André Da Silva
REFRESH-INTERVAL;VALUE=DURATION:PT1H
X-Robots-Tag:noindex
X-PUBLISHED-TTL:PT1H
BEGIN:VTIMEZONE
TZID:Europe/Paris
BEGIN:DAYLIGHT
TZOFFSETFROM:+0100
TZOFFSETTO:+0200
TZNAME:CEST
DTSTART:20220327T010000
END:DAYLIGHT
BEGIN:STANDARD
TZOFFSETFROM:+0200
TZOFFSETTO:+0100
TZNAME:CET
DTSTART:20221030T010000
END:STANDARD
END:VTIMEZONE
BEGIN:VEVENT
DTSTART;VALUE=DATE:20220917
DTEND;VALUE=DATE:20220918
DTSTAMP:20260425T122719
CREATED:20220913T204101Z
LAST-MODIFIED:20220913T205305Z
UID:10000002-1663372800-1663459199@andredasilvamusic.com
SUMMARY:Duo Religo
DESCRIPTION:
URL:https://andredasilvamusic.com/event/duo-religo/
LOCATION:Centre Culturel de Toulouse\, Toulouse
END:VEVENT
END:VCALENDAR