BEGIN:VCALENDAR
VERSION:2.0
PRODID:-//André Da Silva - ECPv6.0.1.1//NONSGML v1.0//EN
CALSCALE:GREGORIAN
METHOD:PUBLISH
X-ORIGINAL-URL:https://andredasilvamusic.com
X-WR-CALDESC:Events for André Da Silva
REFRESH-INTERVAL;VALUE=DURATION:PT1H
X-Robots-Tag:noindex
X-PUBLISHED-TTL:PT1H
BEGIN:VTIMEZONE
TZID:Europe/Paris
BEGIN:DAYLIGHT
TZOFFSETFROM:+0100
TZOFFSETTO:+0200
TZNAME:CEST
DTSTART:20240331T010000
END:DAYLIGHT
BEGIN:STANDARD
TZOFFSETFROM:+0200
TZOFFSETTO:+0100
TZNAME:CET
DTSTART:20241027T010000
END:STANDARD
END:VTIMEZONE
BEGIN:VEVENT
DTSTART;TZID=Europe/Paris:20240828T080000
DTEND;TZID=Europe/Paris:20240828T170000
DTSTAMP:20260425T165303
CREATED:20231207T111523Z
LAST-MODIFIED:20231207T111523Z
UID:10000046-1724832000-1724864400@andredasilvamusic.com
SUMMARY:Trio avec Marcelo Costa & Mateus Donato
DESCRIPTION:
URL:https://andredasilvamusic.com/event/trio-avec-marcelo-costa-mateus-donato/
LOCATION:Festival à Les Moutiers-en-Retz\, France
END:VEVENT
END:VCALENDAR