BEGIN:VCALENDAR
VERSION:2.0
PRODID:-//André Da Silva - ECPv6.0.1.1//NONSGML v1.0//EN
CALSCALE:GREGORIAN
METHOD:PUBLISH
X-WR-CALNAME:André Da Silva
X-ORIGINAL-URL:https://andredasilvamusic.com
X-WR-CALDESC:Events for André Da Silva
REFRESH-INTERVAL;VALUE=DURATION:PT1H
X-Robots-Tag:noindex
X-PUBLISHED-TTL:PT1H
BEGIN:VTIMEZONE
TZID:Europe/Paris
BEGIN:DAYLIGHT
TZOFFSETFROM:+0100
TZOFFSETTO:+0200
TZNAME:CEST
DTSTART:20220327T010000
END:DAYLIGHT
BEGIN:STANDARD
TZOFFSETFROM:+0200
TZOFFSETTO:+0100
TZNAME:CET
DTSTART:20221030T010000
END:STANDARD
END:VTIMEZONE
BEGIN:VEVENT
DTSTART;VALUE=DATE:20220312
DTEND;VALUE=DATE:20220313
DTSTAMP:20260423T101620
CREATED:20221006T124208Z
LAST-MODIFIED:20221006T130958Z
UID:10000012-1647043200-1647129599@andredasilvamusic.com
SUMMARY:Duo Caio Marcio Santos et André Da Silva
DESCRIPTION:
URL:https://andredasilvamusic.com/event/duo-caio-santos-et-andre-da-silva/
LOCATION:L’abris des possibles\, 1 place Barbès\, Auch\, 32000\, France
END:VEVENT
BEGIN:VEVENT
DTSTART;VALUE=DATE:20221203
DTEND;VALUE=DATE:20221204
DTSTAMP:20260423T101620
CREATED:20221006T131448Z
LAST-MODIFIED:20221006T131448Z
UID:10000013-1670025600-1670111999@andredasilvamusic.com
SUMMARY:Duo Caio Marcio Santos et André Da Silva
DESCRIPTION:
URL:https://andredasilvamusic.com/event/duo-caio-marcio-santos-et-andre-da-silva-2/
LOCATION:L’abris des possibles\, 1 place Barbès\, Auch\, 32000\, France
END:VEVENT
END:VCALENDAR