BEGIN:VCALENDAR
VERSION:2.0
PRODID:-//André Da Silva - ECPv6.0.1.1//NONSGML v1.0//EN
CALSCALE:GREGORIAN
METHOD:PUBLISH
X-ORIGINAL-URL:https://andredasilvamusic.com
X-WR-CALDESC:Events for André Da Silva
REFRESH-INTERVAL;VALUE=DURATION:PT1H
X-Robots-Tag:noindex
X-PUBLISHED-TTL:PT1H
BEGIN:VTIMEZONE
TZID:Europe/Paris
BEGIN:DAYLIGHT
TZOFFSETFROM:+0100
TZOFFSETTO:+0200
TZNAME:CEST
DTSTART:20240331T010000
END:DAYLIGHT
BEGIN:STANDARD
TZOFFSETFROM:+0200
TZOFFSETTO:+0100
TZNAME:CET
DTSTART:20241027T010000
END:STANDARD
BEGIN:DAYLIGHT
TZOFFSETFROM:+0100
TZOFFSETTO:+0200
TZNAME:CEST
DTSTART:20250330T010000
END:DAYLIGHT
BEGIN:STANDARD
TZOFFSETFROM:+0200
TZOFFSETTO:+0100
TZNAME:CET
DTSTART:20251026T010000
END:STANDARD
END:VTIMEZONE
BEGIN:VEVENT
DTSTART;TZID=Europe/Paris:20240912T200000
DTEND;TZID=Europe/Paris:20240912T200000
DTSTAMP:20260425T181855
CREATED:20240409T100228Z
LAST-MODIFIED:20240409T100228Z
UID:10000069-1726171200-1726171200@andredasilvamusic.com
SUMMARY:Hommage à Claude Nougaro
DESCRIPTION:
URL:https://andredasilvamusic.com/event/hommage-a-claude-nougaro/
LOCATION:Le Taquin (Toulouse)\, France
END:VEVENT
BEGIN:VEVENT
DTSTART;TZID=Europe/Paris:20250123T200000
DTEND;TZID=Europe/Paris:20250123T200000
DTSTAMP:20260425T181855
CREATED:20240409T104824Z
LAST-MODIFIED:20240409T104824Z
UID:10000074-1737662400-1737662400@andredasilvamusic.com
SUMMARY:Duo Harlod Lopez Nussa et André Da Silva
DESCRIPTION:
URL:https://andredasilvamusic.com/event/duo-harlod-lopez-nussa-et-andre-da-silva/
LOCATION:Le Taquin (Toulouse)\, France
END:VEVENT
END:VCALENDAR