BEGIN:VCALENDAR
VERSION:2.0
PRODID:-//André Da Silva - ECPv6.0.1.1//NONSGML v1.0//EN
CALSCALE:GREGORIAN
METHOD:PUBLISH
X-ORIGINAL-URL:https://andredasilvamusic.com
X-WR-CALDESC:Events for André Da Silva
REFRESH-INTERVAL;VALUE=DURATION:PT1H
X-Robots-Tag:noindex
X-PUBLISHED-TTL:PT1H
BEGIN:VTIMEZONE
TZID:Europe/Paris
BEGIN:DAYLIGHT
TZOFFSETFROM:+0100
TZOFFSETTO:+0200
TZNAME:CEST
DTSTART:20230326T010000
END:DAYLIGHT
BEGIN:STANDARD
TZOFFSETFROM:+0200
TZOFFSETTO:+0100
TZNAME:CET
DTSTART:20231029T010000
END:STANDARD
BEGIN:DAYLIGHT
TZOFFSETFROM:+0100
TZOFFSETTO:+0200
TZNAME:CEST
DTSTART:20240331T010000
END:DAYLIGHT
BEGIN:STANDARD
TZOFFSETFROM:+0200
TZOFFSETTO:+0100
TZNAME:CET
DTSTART:20241027T010000
END:STANDARD
END:VTIMEZONE
BEGIN:VEVENT
DTSTART;TZID=Europe/Paris:20230113T130108
DTEND;TZID=Europe/Paris:20230113T130108
DTSTAMP:20260423T114151
CREATED:20230113T115957Z
LAST-MODIFIED:20230113T120108Z
UID:10000020-1673614868-1673614868@andredasilvamusic.com
SUMMARY:Duo Caio Santos et André Da Silva invite
DESCRIPTION:
URL:https://andredasilvamusic.com/event/duo-caio-santos-et-andre-da-silva-invite/
LOCATION:Le taquin\, 23 rue des amidonniers\, 31300\, France
END:VEVENT
BEGIN:VEVENT
DTSTART;TZID=Europe/Paris:20240324T110504
DTEND;TZID=Europe/Paris:20240324T110504
DTSTAMP:20260423T114151
CREATED:20240324T100323Z
LAST-MODIFIED:20240324T100504Z
UID:10000054-1711278304-1711278304@andredasilvamusic.com
SUMMARY:Irina Gonzalez
DESCRIPTION:
URL:https://andredasilvamusic.com/event/irina-gonzalez/
LOCATION:Le taquin\, 23 rue des amidonniers\, 31300\, France
END:VEVENT
BEGIN:VEVENT
DTSTART;TZID=Europe/Paris:20240523T200000
DTEND;TZID=Europe/Paris:20240523T200000
DTSTAMP:20260423T114151
CREATED:20240324T100846Z
LAST-MODIFIED:20240324T100846Z
UID:10000056-1716494400-1716494400@andredasilvamusic.com
SUMMARY:Irina Gonzalez Quartet
DESCRIPTION:
URL:https://andredasilvamusic.com/event/irina-gonzalez-quartet-4/
LOCATION:Le taquin\, 23 rue des amidonniers\, 31300\, France
END:VEVENT
END:VCALENDAR